BEGIN:VCALENDAR
VERSION:2.0
PRODID:icalendar-ruby
CALSCALE:GREGORIAN
METHOD:PUBLISH
BEGIN:VEVENT
DTSTAMP:20260424T124536Z
UID:7-218623@stmartinslondon.ca
DTSTART:20260927T140000Z
DTEND:20260927T150000Z
CLASS:PUBLIC
CREATED:20260424T081438
DESCRIPTION:Sunday Worship at 10AM\nChoral Eucharist\n489 Pinetree Drive\nA
 ll are welcome to St. Martin's weekly service of Choral Eucharist from the
  Anglican Book of Alternative Services. \nNew to the Anglican tradition? 
 Not to worry. When you arrive you'll be given a bulletin that includes all
  of the information you'll need to follow along. \nAll baptized Christian
 s\, regardless of denomination\, are welcome to receive Communion at our s
 ervices. If you would prefer to receive a blessing\,  you're welcome to c
 ome forward during Communion\, crossing your arms over your chest\, so tha
 t the officiant can pray with you. \nOur sanctuary\, halls\, and washroom
  are barrier-free accessible. Parking is available on site. 
LAST-MODIFIED:20260424T081438
LOCATION:St. Martin-in-the-Fields Anglican Church
SUMMARY:Sunday Worship
URL;VALUE=URI:https://www.stmartinslondon.ca/events/sunday-worship/2026-09-
 27
ATTACH;FILENAME=sundayservice-25.jpg;FMTTYPE=image/jpeg:https://dq5pwpg1q8r
 u0.cloudfront.net/2024/05/09/16/39/28/18df724b-8df9-49f9-a9ac-e69380951eb7
 /sundayservice-25.jpg
END:VEVENT
END:VCALENDAR
